BEGIN:VCALENDAR
VERSION:2.0
PRODID:-//ChamberMaster//Event Calendar 2.0//EN
METHOD:PUBLISH
X-PUBLISHED-TTL:P3D
REFRESH-INTERVAL:P3D
CALSCALE:GREGORIAN
BEGIN:VEVENT
DTSTART:20260428T223000Z
DTEND:20260429T003000Z
X-MICROSOFT-CDO-ALLDAYEVENT:FALSE
SUMMARY:Williamson County Youth Job Fair
DESCRIPTION:Youth Job Fair targeted for 16-18 year-olds
X-ALT-DESC;FMTTYPE=text/html:Youth Job Fair targeted for 16-18 year-olds
LOCATION:Williamson County Georgetown Annex Building 100 Wilco Way Georgetown\, TX 78628
UID:e.2474.3089
SEQUENCE:3
DTSTAMP:20260424T082359Z
URL:https://www.jarrellcoc.com/events/details/williamson-county-youth-job-fair-3089
END:VEVENT

END:VCALENDAR
